BEGIN:VCALENDAR
VERSION:2.0
PRODID:-//NNY Archery - ECPv6.15.20//NONSGML v1.0//EN
CALSCALE:GREGORIAN
METHOD:PUBLISH
X-ORIGINAL-URL:https://nnyarchery.com
X-WR-CALDESC:Events for NNY Archery
REFRESH-INTERVAL;VALUE=DURATION:PT1H
X-Robots-Tag:noindex
X-PUBLISHED-TTL:PT1H
BEGIN:VTIMEZONE
TZID:America/New_York
BEGIN:DAYLIGHT
TZOFFSETFROM:-0500
TZOFFSETTO:-0400
TZNAME:EDT
DTSTART:20240310T070000
END:DAYLIGHT
BEGIN:STANDARD
TZOFFSETFROM:-0400
TZOFFSETTO:-0500
TZNAME:EST
DTSTART:20241103T060000
END:STANDARD
BEGIN:DAYLIGHT
TZOFFSETFROM:-0500
TZOFFSETTO:-0400
TZNAME:EDT
DTSTART:20250309T070000
END:DAYLIGHT
BEGIN:STANDARD
TZOFFSETFROM:-0400
TZOFFSETTO:-0500
TZNAME:EST
DTSTART:20251102T060000
END:STANDARD
BEGIN:DAYLIGHT
TZOFFSETFROM:-0500
TZOFFSETTO:-0400
TZNAME:EDT
DTSTART:20260308T070000
END:DAYLIGHT
BEGIN:STANDARD
TZOFFSETFROM:-0400
TZOFFSETTO:-0500
TZNAME:EST
DTSTART:20261101T060000
END:STANDARD
BEGIN:DAYLIGHT
TZOFFSETFROM:-0500
TZOFFSETTO:-0400
TZNAME:EDT
DTSTART:20270314T070000
END:DAYLIGHT
BEGIN:STANDARD
TZOFFSETFROM:-0400
TZOFFSETTO:-0500
TZNAME:EST
DTSTART:20271107T060000
END:STANDARD
END:VTIMEZONE
BEGIN:VEVENT
DTSTART;TZID=America/New_York:20260315T080000
DTEND;TZID=America/New_York:20260315T110000
DTSTAMP:20260420T230443
CREATED:20260128T135338Z
LAST-MODIFIED:20260128T135338Z
UID:317-1773561600-1773572400@nnyarchery.com
SUMMARY:Tupper Lake - Camo to Camo Shoot
DESCRIPTION:Indoor 3D Event held by Tupper Lake Archers to benefit the NY Bowhunters Camo to Camo Program.
URL:https://nnyarchery.com/event/tupper-lake-camo-to-camo-shoot/
LOCATION:Tupper Lake Rod and Gun Club\, 116 Lake Simond Rd\, Tupper Lake\, NY\, 12986\, United States
CATEGORIES:Indoor - 3D
END:VEVENT
BEGIN:VEVENT
DTSTART;TZID=America/New_York:20250316T080000
DTEND;TZID=America/New_York:20250316T110000
DTSTAMP:20260420T230443
CREATED:20250206T172413Z
LAST-MODIFIED:20250206T172413Z
UID:51-1742112000-1742122800@nnyarchery.com
SUMMARY:Camo to Camo 3D Shoot
DESCRIPTION:Indoor 3D shoot held by Tupper Lake Archers.
URL:https://nnyarchery.com/event/camo-to-camo-3d-shoot/
LOCATION:Tupper Lake Rod and Gun Club\, 116 Lake Simond Rd\, Tupper Lake\, NY\, 12986\, United States
CATEGORIES:Indoor - 3D
END:VEVENT
END:VCALENDAR