BEGIN:VCALENDAR
VERSION:2.0
PRODID:-//NNY Archery - ECPv6.15.20//NONSGML v1.0//EN
CALSCALE:GREGORIAN
METHOD:PUBLISH
X-WR-CALNAME:NNY Archery
X-ORIGINAL-URL:https://nnyarchery.com
X-WR-CALDESC:Events for NNY Archery
REFRESH-INTERVAL;VALUE=DURATION:PT1H
X-Robots-Tag:noindex
X-PUBLISHED-TTL:PT1H
BEGIN:VTIMEZONE
TZID:America/New_York
BEGIN:DAYLIGHT
TZOFFSETFROM:-0500
TZOFFSETTO:-0400
TZNAME:EDT
DTSTART:20250309T070000
END:DAYLIGHT
BEGIN:STANDARD
TZOFFSETFROM:-0400
TZOFFSETTO:-0500
TZNAME:EST
DTSTART:20251102T060000
END:STANDARD
BEGIN:DAYLIGHT
TZOFFSETFROM:-0500
TZOFFSETTO:-0400
TZNAME:EDT
DTSTART:20260308T070000
END:DAYLIGHT
BEGIN:STANDARD
TZOFFSETFROM:-0400
TZOFFSETTO:-0500
TZNAME:EST
DTSTART:20261101T060000
END:STANDARD
BEGIN:DAYLIGHT
TZOFFSETFROM:-0500
TZOFFSETTO:-0400
TZNAME:EDT
DTSTART:20270314T070000
END:DAYLIGHT
BEGIN:STANDARD
TZOFFSETFROM:-0400
TZOFFSETTO:-0500
TZNAME:EST
DTSTART:20271107T060000
END:STANDARD
END:VTIMEZONE
BEGIN:VEVENT
DTSTART;TZID=America/New_York:20260609T170000
DTEND;TZID=America/New_York:20260609T180000
DTSTAMP:20260420T192220
CREATED:20260129T133808Z
LAST-MODIFIED:20260323T144842Z
UID:410-1781024400-1781028000@nnyarchery.com
SUMMARY:Barn Archery Club Tuesday Night League 2026
DESCRIPTION:New for 2026 – Barn Archery Club is hosting a Tuesday Night League \n$100 for the entire 14 week league or $10 per night. \nHunter Class (fixed sight) – max 45 yards \nOpen Class (movable sight) – max 55 yards \nBest 10 weeks for average score\, so if you shoot all 14\, you get to drop your lowest 4.
URL:https://nnyarchery.com/event/barn-archery-club-tuesday-night-league-2026/
LOCATION:Experience Outdoors – Lake Placid\, 4948 Cascade Road\, Lake Placid\, NY\, 12946\, United States
CATEGORIES:League,Outdoor - 3D
END:VEVENT
BEGIN:VEVENT
DTSTART;TZID=America/New_York:20260616T170000
DTEND;TZID=America/New_York:20260616T180000
DTSTAMP:20260420T192220
CREATED:20260323T144157Z
LAST-MODIFIED:20260323T144924Z
UID:562-1781629200-1781632800@nnyarchery.com
SUMMARY:Barn Archery Club Tuesday Night League 2026
DESCRIPTION:New for 2026 – Barn Archery Club is hosting a Tuesday Night League \n$100 for the entire 14 week league or $10 per night. \nHunter Class (fixed sight) – max 45 yards \nOpen Class (movable sight) – max 55 yards \nBest 10 weeks for average score\, so if you shoot all 14\, you get to drop your lowest 4.
URL:https://nnyarchery.com/event/barn-archery-club-tuesday-night-league-2026-2/
LOCATION:Experience Outdoors – Lake Placid\, 4948 Cascade Road\, Lake Placid\, NY\, 12946\, United States
CATEGORIES:League,Outdoor - 3D
END:VEVENT
BEGIN:VEVENT
DTSTART;TZID=America/New_York:20260623T170000
DTEND;TZID=America/New_York:20260623T180000
DTSTAMP:20260420T192220
CREATED:20260323T144656Z
LAST-MODIFIED:20260323T144656Z
UID:564-1782234000-1782237600@nnyarchery.com
SUMMARY:Barn Archery Club Tuesday Night League 2026
DESCRIPTION:New for 2026 – Barn Archery Club is hosting a Tuesday Night League \n$100 for the entire 14 week league or $10 per night. \nHunter Class (fixed sight) – max 45 yards \nOpen Class (movable sight) – max 55 yards \nBest 10 weeks for average score\, so if you shoot all 14\, you get to drop your lowest 4.
URL:https://nnyarchery.com/event/barn-archery-club-tuesday-night-league-2026-3/
LOCATION:Experience Outdoors – Lake Placid\, 4948 Cascade Road\, Lake Placid\, NY\, 12946\, United States
CATEGORIES:League,Outdoor - 3D
END:VEVENT
BEGIN:VEVENT
DTSTART;TZID=America/New_York:20260630T170000
DTEND;TZID=America/New_York:20260630T180000
DTSTAMP:20260420T192220
CREATED:20260323T145032Z
LAST-MODIFIED:20260323T145032Z
UID:566-1782838800-1782842400@nnyarchery.com
SUMMARY:Barn Archery Club Tuesday Night League 2026
DESCRIPTION:New for 2026 – Barn Archery Club is hosting a Tuesday Night League \n$100 for the entire 14 week league or $10 per night. \nHunter Class (fixed sight) – max 45 yards \nOpen Class (movable sight) – max 55 yards \nBest 10 weeks for average score\, so if you shoot all 14\, you get to drop your lowest 4.
URL:https://nnyarchery.com/event/barn-archery-club-tuesday-night-league-2026-4/
LOCATION:Experience Outdoors – Lake Placid\, 4948 Cascade Road\, Lake Placid\, NY\, 12946\, United States
CATEGORIES:League,Outdoor - 3D
END:VEVENT
END:VCALENDAR