BEGIN:VCALENDAR
VERSION:2.0
PRODID:-//NNY Archery - ECPv6.15.20//NONSGML v1.0//EN
CALSCALE:GREGORIAN
METHOD:PUBLISH
X-WR-CALNAME:NNY Archery
X-ORIGINAL-URL:https://nnyarchery.com
X-WR-CALDESC:Events for NNY Archery
REFRESH-INTERVAL;VALUE=DURATION:PT1H
X-Robots-Tag:noindex
X-PUBLISHED-TTL:PT1H
BEGIN:VTIMEZONE
TZID:America/New_York
BEGIN:DAYLIGHT
TZOFFSETFROM:-0500
TZOFFSETTO:-0400
TZNAME:EDT
DTSTART:20240310T070000
END:DAYLIGHT
BEGIN:STANDARD
TZOFFSETFROM:-0400
TZOFFSETTO:-0500
TZNAME:EST
DTSTART:20241103T060000
END:STANDARD
BEGIN:DAYLIGHT
TZOFFSETFROM:-0500
TZOFFSETTO:-0400
TZNAME:EDT
DTSTART:20250309T070000
END:DAYLIGHT
BEGIN:STANDARD
TZOFFSETFROM:-0400
TZOFFSETTO:-0500
TZNAME:EST
DTSTART:20251102T060000
END:STANDARD
BEGIN:DAYLIGHT
TZOFFSETFROM:-0500
TZOFFSETTO:-0400
TZNAME:EDT
DTSTART:20260308T070000
END:DAYLIGHT
BEGIN:STANDARD
TZOFFSETFROM:-0400
TZOFFSETTO:-0500
TZNAME:EST
DTSTART:20261101T060000
END:STANDARD
END:VTIMEZONE
BEGIN:VEVENT
DTSTART;TZID=America/New_York:20250322T080000
DTEND;TZID=America/New_York:20250322T120000
DTSTAMP:20260421T134447
CREATED:20250207T183928Z
LAST-MODIFIED:20250225T173522Z
UID:191-1742630400-1742644800@nnyarchery.com
SUMMARY:3rd Annual Ice Breaker Shoot
DESCRIPTION:Registration 8am – 12pm \nAdults $20 \nKids $10 \nKids under 7 are free!
URL:https://nnyarchery.com/event/ice-breaker-shoot/
LOCATION:Bear Pac Archery\, X6QM+Q3\, Black River\, NY\, 13612\, United States
CATEGORIES:Outdoor - 3D
END:VEVENT
END:VCALENDAR