BEGIN:VCALENDAR
VERSION:2.0
PRODID:-//NNY Archery - ECPv6.15.20//NONSGML v1.0//EN
CALSCALE:GREGORIAN
METHOD:PUBLISH
X-ORIGINAL-URL:https://nnyarchery.com
X-WR-CALDESC:Events for NNY Archery
REFRESH-INTERVAL;VALUE=DURATION:PT1H
X-Robots-Tag:noindex
X-PUBLISHED-TTL:PT1H
BEGIN:VTIMEZONE
TZID:America/New_York
BEGIN:DAYLIGHT
TZOFFSETFROM:-0500
TZOFFSETTO:-0400
TZNAME:EDT
DTSTART:20250309T070000
END:DAYLIGHT
BEGIN:STANDARD
TZOFFSETFROM:-0400
TZOFFSETTO:-0500
TZNAME:EST
DTSTART:20251102T060000
END:STANDARD
BEGIN:DAYLIGHT
TZOFFSETFROM:-0500
TZOFFSETTO:-0400
TZNAME:EDT
DTSTART:20260308T070000
END:DAYLIGHT
BEGIN:STANDARD
TZOFFSETFROM:-0400
TZOFFSETTO:-0500
TZNAME:EST
DTSTART:20261101T060000
END:STANDARD
BEGIN:DAYLIGHT
TZOFFSETFROM:-0500
TZOFFSETTO:-0400
TZNAME:EDT
DTSTART:20270314T070000
END:DAYLIGHT
BEGIN:STANDARD
TZOFFSETFROM:-0400
TZOFFSETTO:-0500
TZNAME:EST
DTSTART:20271107T060000
END:STANDARD
END:VTIMEZONE
BEGIN:VEVENT
DTSTART;VALUE=DATE:20260530
DTEND;VALUE=DATE:20260601
DTSTAMP:20260420T174859
CREATED:20260128T184223Z
LAST-MODIFIED:20260203T152940Z
UID:397-1780099200-1780271999@nnyarchery.com
SUMMARY:Bear Pac Archery - To the Top 3D - Benefit Shoot
DESCRIPTION:Bear Pac Archery will be hosting a benefit shoot May 30-31st 2026.Help support Warren Briggs on his journey to become an Olympic contender in Luge! \n40 Target Shoot\nRegister 8am – 12pm\nAdults – $40\nYouth (9-17) – $15\nUnder 9 – Free
URL:https://nnyarchery.com/event/bear-pac-archery-to-the-top-3d-benefit-shoot/
LOCATION:Bear Pac Archery\, X6QM+Q3\, Black River\, NY\, 13612\, United States
CATEGORIES:Outdoor - 3D
END:VEVENT
END:VCALENDAR