BEGIN:VCALENDAR
VERSION:2.0
PRODID:-//NNY Archery - ECPv6.15.20//NONSGML v1.0//EN
CALSCALE:GREGORIAN
METHOD:PUBLISH
X-WR-CALNAME:NNY Archery
X-ORIGINAL-URL:https://nnyarchery.com
X-WR-CALDESC:Events for NNY Archery
REFRESH-INTERVAL;VALUE=DURATION:PT1H
X-Robots-Tag:noindex
X-PUBLISHED-TTL:PT1H
BEGIN:VTIMEZONE
TZID:America/New_York
BEGIN:DAYLIGHT
TZOFFSETFROM:-0500
TZOFFSETTO:-0400
TZNAME:EDT
DTSTART:20250309T070000
END:DAYLIGHT
BEGIN:STANDARD
TZOFFSETFROM:-0400
TZOFFSETTO:-0500
TZNAME:EST
DTSTART:20251102T060000
END:STANDARD
BEGIN:DAYLIGHT
TZOFFSETFROM:-0500
TZOFFSETTO:-0400
TZNAME:EDT
DTSTART:20260308T070000
END:DAYLIGHT
BEGIN:STANDARD
TZOFFSETFROM:-0400
TZOFFSETTO:-0500
TZNAME:EST
DTSTART:20261101T060000
END:STANDARD
BEGIN:DAYLIGHT
TZOFFSETFROM:-0500
TZOFFSETTO:-0400
TZNAME:EDT
DTSTART:20270314T070000
END:DAYLIGHT
BEGIN:STANDARD
TZOFFSETFROM:-0400
TZOFFSETTO:-0500
TZNAME:EST
DTSTART:20271107T060000
END:STANDARD
END:VTIMEZONE
BEGIN:VEVENT
DTSTART;VALUE=DATE:20260530
DTEND;VALUE=DATE:20260601
DTSTAMP:20260420T161651
CREATED:20260128T184223Z
LAST-MODIFIED:20260203T152940Z
UID:397-1780099200-1780271999@nnyarchery.com
SUMMARY:Bear Pac Archery - To the Top 3D - Benefit Shoot
DESCRIPTION:Bear Pac Archery will be hosting a benefit shoot May 30-31st 2026.Help support Warren Briggs on his journey to become an Olympic contender in Luge! \n40 Target Shoot\nRegister 8am – 12pm\nAdults – $40\nYouth (9-17) – $15\nUnder 9 – Free
URL:https://nnyarchery.com/event/bear-pac-archery-to-the-top-3d-benefit-shoot/
LOCATION:Bear Pac Archery\, X6QM+Q3\, Black River\, NY\, 13612\, United States
CATEGORIES:Outdoor - 3D
END:VEVENT
BEGIN:VEVENT
DTSTART;TZID=America/New_York:20260607T090000
DTEND;TZID=America/New_York:20260607T110000
DTSTAMP:20260420T161652
CREATED:20260128T142243Z
LAST-MODIFIED:20260128T142243Z
UID:332-1780822800-1780830000@nnyarchery.com
SUMMARY:The Barn Archery Club - Fun Shoot
DESCRIPTION:3D Archery Fun Shoot – June 7\, 2026 \n20 targets – 40 yard max – Unknown Yardage\, no rangefinders \n$20 entry – 9am registration opens – \n1st place wins free league entry into the 2026 \nHosted by the Barn Archery Club \n 
URL:https://nnyarchery.com/event/the-barn-archery-club-fun-shoot/
LOCATION:Experience Outdoors – Lake Placid\, 4948 Cascade Road\, Lake Placid\, NY\, 12946\, United States
CATEGORIES:Outdoor - 3D
END:VEVENT
BEGIN:VEVENT
DTSTART;TZID=America/New_York:20260609T170000
DTEND;TZID=America/New_York:20260609T180000
DTSTAMP:20260420T161652
CREATED:20260129T133808Z
LAST-MODIFIED:20260323T144842Z
UID:410-1781024400-1781028000@nnyarchery.com
SUMMARY:Barn Archery Club Tuesday Night League 2026
DESCRIPTION:New for 2026 – Barn Archery Club is hosting a Tuesday Night League \n$100 for the entire 14 week league or $10 per night. \nHunter Class (fixed sight) – max 45 yards \nOpen Class (movable sight) – max 55 yards \nBest 10 weeks for average score\, so if you shoot all 14\, you get to drop your lowest 4.
URL:https://nnyarchery.com/event/barn-archery-club-tuesday-night-league-2026/
LOCATION:Experience Outdoors – Lake Placid\, 4948 Cascade Road\, Lake Placid\, NY\, 12946\, United States
CATEGORIES:League,Outdoor - 3D
END:VEVENT
BEGIN:VEVENT
DTSTART;TZID=America/New_York:20260614T080000
DTEND;TZID=America/New_York:20260614T120000
DTSTAMP:20260420T161652
CREATED:20260323T141819Z
LAST-MODIFIED:20260323T144906Z
UID:551-1781424000-1781438400@nnyarchery.com
SUMMARY:Black Lake Fish and Game Association 3D Shoot - June 14
DESCRIPTION:Black Lake Fish and Game Association\nJune 14\nRegistration from 8am to 12pm\n40 targets\nAdults – $20\nKids 9-17 – $10\nKids 8 and under – free\n\n(It is NOT held at the clubhouse it’s on separate private property)
URL:https://nnyarchery.com/event/black-lake-fish-and-game-association-june-14/
LOCATION:Black Lake Fish and Game Association 3D Course\, 8 Rastley Rd\, Gouverneur\, NY\, 13642-3226\, United States
CATEGORIES:Outdoor - 3D
ORGANIZER;CN="Black Lake Fish and Game Association":MAILTO:club@blfga.org
END:VEVENT
BEGIN:VEVENT
DTSTART;TZID=America/New_York:20260616T170000
DTEND;TZID=America/New_York:20260616T180000
DTSTAMP:20260420T161652
CREATED:20260323T144157Z
LAST-MODIFIED:20260323T144924Z
UID:562-1781629200-1781632800@nnyarchery.com
SUMMARY:Barn Archery Club Tuesday Night League 2026
DESCRIPTION:New for 2026 – Barn Archery Club is hosting a Tuesday Night League \n$100 for the entire 14 week league or $10 per night. \nHunter Class (fixed sight) – max 45 yards \nOpen Class (movable sight) – max 55 yards \nBest 10 weeks for average score\, so if you shoot all 14\, you get to drop your lowest 4.
URL:https://nnyarchery.com/event/barn-archery-club-tuesday-night-league-2026-2/
LOCATION:Experience Outdoors – Lake Placid\, 4948 Cascade Road\, Lake Placid\, NY\, 12946\, United States
CATEGORIES:League,Outdoor - 3D
END:VEVENT
BEGIN:VEVENT
DTSTART;VALUE=DATE:20260619
DTEND;VALUE=DATE:20260622
DTSTAMP:20260420T161652
CREATED:20260128T141057Z
LAST-MODIFIED:20260128T141108Z
UID:322-1781827200-1782086399@nnyarchery.com
SUMMARY:R100 Shoot in Turin NY - In Partnership with Bear Pac Archery
DESCRIPTION:Finally coming to NY\, a full fledged National 3D Outdoor Event. \nThe R100 National Tour has run events across the nation in a multi day event that is fun for everyone. \nFollow the link below to Register or get more information.
URL:https://nnyarchery.com/event/r100-shoot-in-turin-ny-in-partnership-with-bear-pac-archery/
LOCATION:Snow Ridge Ski Resort\, 4173 West Rd\, Turin\, NY\, 13473\, United States
CATEGORIES:Outdoor - 3D
ORGANIZER;CN="R100 National Archery Tour":MAILTO:r100.information@gmail.com
END:VEVENT
BEGIN:VEVENT
DTSTART;TZID=America/New_York:20260623T170000
DTEND;TZID=America/New_York:20260623T180000
DTSTAMP:20260420T161652
CREATED:20260323T144656Z
LAST-MODIFIED:20260323T144656Z
UID:564-1782234000-1782237600@nnyarchery.com
SUMMARY:Barn Archery Club Tuesday Night League 2026
DESCRIPTION:New for 2026 – Barn Archery Club is hosting a Tuesday Night League \n$100 for the entire 14 week league or $10 per night. \nHunter Class (fixed sight) – max 45 yards \nOpen Class (movable sight) – max 55 yards \nBest 10 weeks for average score\, so if you shoot all 14\, you get to drop your lowest 4.
URL:https://nnyarchery.com/event/barn-archery-club-tuesday-night-league-2026-3/
LOCATION:Experience Outdoors – Lake Placid\, 4948 Cascade Road\, Lake Placid\, NY\, 12946\, United States
CATEGORIES:League,Outdoor - 3D
END:VEVENT
BEGIN:VEVENT
DTSTART;TZID=America/New_York:20260630T170000
DTEND;TZID=America/New_York:20260630T180000
DTSTAMP:20260420T161652
CREATED:20260323T145032Z
LAST-MODIFIED:20260323T145032Z
UID:566-1782838800-1782842400@nnyarchery.com
SUMMARY:Barn Archery Club Tuesday Night League 2026
DESCRIPTION:New for 2026 – Barn Archery Club is hosting a Tuesday Night League \n$100 for the entire 14 week league or $10 per night. \nHunter Class (fixed sight) – max 45 yards \nOpen Class (movable sight) – max 55 yards \nBest 10 weeks for average score\, so if you shoot all 14\, you get to drop your lowest 4.
URL:https://nnyarchery.com/event/barn-archery-club-tuesday-night-league-2026-4/
LOCATION:Experience Outdoors – Lake Placid\, 4948 Cascade Road\, Lake Placid\, NY\, 12946\, United States
CATEGORIES:League,Outdoor - 3D
END:VEVENT
BEGIN:VEVENT
DTSTART;TZID=America/New_York:20260707T170000
DTEND;TZID=America/New_York:20260707T180000
DTSTAMP:20260420T161652
CREATED:20260323T145140Z
LAST-MODIFIED:20260323T145812Z
UID:568-1783443600-1783447200@nnyarchery.com
SUMMARY:Barn Archery Club Tuesday Night League 2026
DESCRIPTION:New for 2026 – Barn Archery Club is hosting a Tuesday Night League \n$100 for the entire 14 week league or $10 per night. \nHunter Class (fixed sight) – max 45 yards \nOpen Class (movable sight) – max 55 yards \nBest 10 weeks for average score\, so if you shoot all 14\, you get to drop your lowest 4.
URL:https://nnyarchery.com/event/barn-archery-club-tuesday-night-league-2026-5/
LOCATION:Experience Outdoors – Lake Placid\, 4948 Cascade Road\, Lake Placid\, NY\, 12946\, United States
CATEGORIES:League,Outdoor - 3D
END:VEVENT
BEGIN:VEVENT
DTSTART;TZID=America/New_York:20260712T080000
DTEND;TZID=America/New_York:20260712T110000
DTSTAMP:20260420T161652
CREATED:20260128T184332Z
LAST-MODIFIED:20260128T184332Z
UID:399-1783843200-1783854000@nnyarchery.com
SUMMARY:Bear Pac Archery - Shootout in the Holler
DESCRIPTION:
URL:https://nnyarchery.com/event/bear-pac-archery-shootout-in-the-holler/
LOCATION:Bear Pac Archery\, X6QM+Q3\, Black River\, NY\, 13612\, United States
CATEGORIES:Outdoor - 3D
END:VEVENT
BEGIN:VEVENT
DTSTART;TZID=America/New_York:20260714T170000
DTEND;TZID=America/New_York:20260714T180000
DTSTAMP:20260420T161652
CREATED:20260323T150056Z
LAST-MODIFIED:20260323T150056Z
UID:570-1784048400-1784052000@nnyarchery.com
SUMMARY:Barn Archery Club Tuesday Night League 2026
DESCRIPTION:New for 2026 – Barn Archery Club is hosting a Tuesday Night League \n$100 for the entire 14 week league or $10 per night. \nHunter Class (fixed sight) – max 45 yards \nOpen Class (movable sight) – max 55 yards \nBest 10 weeks for average score\, so if you shoot all 14\, you get to drop your lowest 4.
URL:https://nnyarchery.com/event/barn-archery-club-tuesday-night-league-2026-6/
LOCATION:Experience Outdoors – Lake Placid\, 4948 Cascade Road\, Lake Placid\, NY\, 12946\, United States
CATEGORIES:League,Outdoor - 3D
END:VEVENT
BEGIN:VEVENT
DTSTART;TZID=America/New_York:20260721T170000
DTEND;TZID=America/New_York:20260721T180000
DTSTAMP:20260420T161652
CREATED:20260323T152658Z
LAST-MODIFIED:20260323T152658Z
UID:572-1784653200-1784656800@nnyarchery.com
SUMMARY:Barn Archery Club Tuesday Night League 2026
DESCRIPTION:New for 2026 – Barn Archery Club is hosting a Tuesday Night League \n$100 for the entire 14 week league or $10 per night. \nHunter Class (fixed sight) – max 45 yards \nOpen Class (movable sight) – max 55 yards \nBest 10 weeks for average score\, so if you shoot all 14\, you get to drop your lowest 4.
URL:https://nnyarchery.com/event/barn-archery-club-tuesday-night-league-2026-7/
LOCATION:Experience Outdoors – Lake Placid\, 4948 Cascade Road\, Lake Placid\, NY\, 12946\, United States
CATEGORIES:League,Outdoor - 3D
END:VEVENT
BEGIN:VEVENT
DTSTART;TZID=America/New_York:20260728T170000
DTEND;TZID=America/New_York:20260728T180000
DTSTAMP:20260420T161652
CREATED:20260323T154333Z
LAST-MODIFIED:20260323T154333Z
UID:574-1785258000-1785261600@nnyarchery.com
SUMMARY:Barn Archery Club Tuesday Night League 2026
DESCRIPTION:New for 2026 – Barn Archery Club is hosting a Tuesday Night League \n$100 for the entire 14 week league or $10 per night. \nHunter Class (fixed sight) – max 45 yards \nOpen Class (movable sight) – max 55 yards \nBest 10 weeks for average score\, so if you shoot all 14\, you get to drop your lowest 4.
URL:https://nnyarchery.com/event/barn-archery-club-tuesday-night-league-2026-8/
LOCATION:Experience Outdoors – Lake Placid\, 4948 Cascade Road\, Lake Placid\, NY\, 12946\, United States
CATEGORIES:League,Outdoor - 3D
END:VEVENT
BEGIN:VEVENT
DTSTART;TZID=America/New_York:20260804T170000
DTEND;TZID=America/New_York:20260804T180000
DTSTAMP:20260420T161652
CREATED:20260323T154457Z
LAST-MODIFIED:20260323T154457Z
UID:576-1785862800-1785866400@nnyarchery.com
SUMMARY:Barn Archery Club Tuesday Night League 2026
DESCRIPTION:New for 2026 – Barn Archery Club is hosting a Tuesday Night League \n$100 for the entire 14 week league or $10 per night. \nHunter Class (fixed sight) – max 45 yards \nOpen Class (movable sight) – max 55 yards \nBest 10 weeks for average score\, so if you shoot all 14\, you get to drop your lowest 4.
URL:https://nnyarchery.com/event/barn-archery-club-tuesday-night-league-2026-9/
LOCATION:Experience Outdoors – Lake Placid\, 4948 Cascade Road\, Lake Placid\, NY\, 12946\, United States
CATEGORIES:League,Outdoor - 3D
END:VEVENT
BEGIN:VEVENT
DTSTART;TZID=America/New_York:20260811T170000
DTEND;TZID=America/New_York:20260811T180000
DTSTAMP:20260420T161652
CREATED:20260323T154824Z
LAST-MODIFIED:20260323T154922Z
UID:578-1786467600-1786471200@nnyarchery.com
SUMMARY:Barn Archery Club Tuesday Night League 2026
DESCRIPTION:New for 2026 – Barn Archery Club is hosting a Tuesday Night League \n$100 for the entire 14 week league or $10 per night. \nHunter Class (fixed sight) – max 45 yards \nOpen Class (movable sight) – max 55 yards \nBest 10 weeks for average score\, so if you shoot all 14\, you get to drop your lowest 4.
URL:https://nnyarchery.com/event/barn-archery-club-tuesday-night-league-2026-10/
LOCATION:Experience Outdoors – Lake Placid\, 4948 Cascade Road\, Lake Placid\, NY\, 12946\, United States
CATEGORIES:League,Outdoor - 3D
END:VEVENT
BEGIN:VEVENT
DTSTART;TZID=America/New_York:20260818T170000
DTEND;TZID=America/New_York:20260818T180000
DTSTAMP:20260420T161652
CREATED:20260323T155156Z
LAST-MODIFIED:20260323T155156Z
UID:580-1787072400-1787076000@nnyarchery.com
SUMMARY:Barn Archery Club Tuesday Night League 2026
DESCRIPTION:New for 2026 – Barn Archery Club is hosting a Tuesday Night League \n$100 for the entire 14 week league or $10 per night. \nHunter Class (fixed sight) – max 45 yards \nOpen Class (movable sight) – max 55 yards \nBest 10 weeks for average score\, so if you shoot all 14\, you get to drop your lowest 4.
URL:https://nnyarchery.com/event/barn-archery-club-tuesday-night-league-2026-11/
LOCATION:Experience Outdoors – Lake Placid\, 4948 Cascade Road\, Lake Placid\, NY\, 12946\, United States
CATEGORIES:League,Outdoor - 3D
END:VEVENT
BEGIN:VEVENT
DTSTART;TZID=America/New_York:20260825T170000
DTEND;TZID=America/New_York:20260825T180000
DTSTAMP:20260420T161652
CREATED:20260323T155253Z
LAST-MODIFIED:20260323T155253Z
UID:582-1787677200-1787680800@nnyarchery.com
SUMMARY:Barn Archery Club Tuesday Night League 2026
DESCRIPTION:New for 2026 – Barn Archery Club is hosting a Tuesday Night League \n$100 for the entire 14 week league or $10 per night. \nHunter Class (fixed sight) – max 45 yards \nOpen Class (movable sight) – max 55 yards \nBest 10 weeks for average score\, so if you shoot all 14\, you get to drop your lowest 4.
URL:https://nnyarchery.com/event/barn-archery-club-tuesday-night-league-2026-12/
LOCATION:Experience Outdoors – Lake Placid\, 4948 Cascade Road\, Lake Placid\, NY\, 12946\, United States
CATEGORIES:League,Outdoor - 3D
END:VEVENT
BEGIN:VEVENT
DTSTART;VALUE=DATE:20260829
DTEND;VALUE=DATE:20260831
DTSTAMP:20260420T161652
CREATED:20260129T190353Z
LAST-MODIFIED:20260129T190548Z
UID:425-1787961600-1788134399@nnyarchery.com
SUMMARY:Tupper Lake Archers - Mountain Challenge 2026
DESCRIPTION:From thier website: \nNow in its 32nd year\, the Mountain Challenge Archery Shoot is one of the region’s most anticipated summer events—bringing together archers of all ages and skill levels for a weekend of outdoor fun\, friendly competition\, and community spirit. \nSet in the beautiful woods alongside Lake Simond in Tupper Lake\, NY\, the event features: \n\n\nTwo full 3D courses with 30 life-sized targets each\, designed to challenge and entertain in a realistic\, wooded environment \n\n\nNovelty shoots that are as fun as they are unpredictable \n\n\nClasses for everyone\, from traditional bows to modern compound setups \n\n\nFree lakeside camping (primitive—no hook-ups) for those looking to make a weekend of it \n\n\nClub kitchen open for lunches both days \n\n\nEvening campfire to unwind\, share stories\, and enjoy the company of fellow archers \n\n\nThis is a fun\, friendly event for the whole family\, hosted by the Tupper Lake Sportsmen’s Club\, with a long tradition of welcoming newcomers\, supporting youth involvement\, and celebrating the great outdoors. \nWhether you’re a seasoned shooter or just getting started\, the Mountain Challenge is the perfect place to test your skills\, make new friends\, and enjoy a classic Adirondack summer weekend.
URL:https://nnyarchery.com/event/tupper-lake-archers-mountain-challenge-2026/
LOCATION:Tupper Lake Rod and Gun Club\, 116 Lake Simond Rd\, Tupper Lake\, NY\, 12986\, United States
CATEGORIES:Outdoor - 3D
END:VEVENT
BEGIN:VEVENT
DTSTART;TZID=America/New_York:20260901T170000
DTEND;TZID=America/New_York:20260901T180000
DTSTAMP:20260420T161652
CREATED:20260323T155716Z
LAST-MODIFIED:20260323T155716Z
UID:584-1788282000-1788285600@nnyarchery.com
SUMMARY:Barn Archery Club Tuesday Night League 2026
DESCRIPTION:New for 2026 – Barn Archery Club is hosting a Tuesday Night League \n$100 for the entire 14 week league or $10 per night. \nHunter Class (fixed sight) – max 45 yards \nOpen Class (movable sight) – max 55 yards \nBest 10 weeks for average score\, so if you shoot all 14\, you get to drop your lowest 4.
URL:https://nnyarchery.com/event/barn-archery-club-tuesday-night-league-2026-13/
LOCATION:Experience Outdoors – Lake Placid\, 4948 Cascade Road\, Lake Placid\, NY\, 12946\, United States
CATEGORIES:League,Outdoor - 3D
END:VEVENT
BEGIN:VEVENT
DTSTART;TZID=America/New_York:20260908T170000
DTEND;TZID=America/New_York:20260908T180000
DTSTAMP:20260420T161652
CREATED:20260323T155814Z
LAST-MODIFIED:20260323T155814Z
UID:586-1788886800-1788890400@nnyarchery.com
SUMMARY:Barn Archery Club Tuesday Night League 2026
DESCRIPTION:New for 2026 – Barn Archery Club is hosting a Tuesday Night League \n$100 for the entire 14 week league or $10 per night. \nHunter Class (fixed sight) – max 45 yards \nOpen Class (movable sight) – max 55 yards \nBest 10 weeks for average score\, so if you shoot all 14\, you get to drop your lowest 4.
URL:https://nnyarchery.com/event/barn-archery-club-tuesday-night-league-2026-14/
LOCATION:Experience Outdoors – Lake Placid\, 4948 Cascade Road\, Lake Placid\, NY\, 12946\, United States
CATEGORIES:League,Outdoor - 3D
END:VEVENT
BEGIN:VEVENT
DTSTART;TZID=America/New_York:20260912T080000
DTEND;TZID=America/New_York:20260912T150000
DTSTAMP:20260420T161652
CREATED:20260302T191532Z
LAST-MODIFIED:20260302T191619Z
UID:524-1789200000-1789225200@nnyarchery.com
SUMMARY:Malone Fish and Game Club 3D Shoot
DESCRIPTION:32 3D Targets \nRegistration 8am – 3pm \nNo idea of cost yet… if you know please let us know!
URL:https://nnyarchery.com/event/malone-fish-and-game-club-3d-shoot/
LOCATION:Malone Fish and Game Club\, 1310 Webster Street Road\,\, Malone\, NY\, 12953\, United States
CATEGORIES:Outdoor - 3D
END:VEVENT
BEGIN:VEVENT
DTSTART;TZID=America/New_York:20260912T080000
DTEND;TZID=America/New_York:20260912T170000
DTSTAMP:20260420T161652
CREATED:20260129T134322Z
LAST-MODIFIED:20260213T194202Z
UID:413-1789200000-1789232400@nnyarchery.com
SUMMARY:Barn Archery Challenge 2026
DESCRIPTION:30 Targets for the Challenge this year. $50 Entry Fee. Pre-register by 8/1 for a free event tshirt!
URL:https://nnyarchery.com/event/barn-archery-challenge-2026/
LOCATION:Experience Outdoors – Lake Placid\, 4948 Cascade Road\, Lake Placid\, NY\, 12946\, United States
CATEGORIES:Outdoor - 3D
END:VEVENT
BEGIN:VEVENT
DTSTART;TZID=America/New_York:20260919T193000
DTEND;TZID=America/New_York:20260919T210000
DTSTAMP:20260420T161652
CREATED:20260128T184625Z
LAST-MODIFIED:20260128T184625Z
UID:403-1789846200-1789851600@nnyarchery.com
SUMMARY:Bear Pac Archery - Archery Night in America
DESCRIPTION:
URL:https://nnyarchery.com/event/bear-pac-archery-archery-night-in-america/
LOCATION:Bear Pac Archery\, X6QM+Q3\, Black River\, NY\, 13612\, United States
CATEGORIES:Outdoor - 3D
END:VEVENT
END:VCALENDAR